BEGIN:VCALENDAR
VERSION:2.0
PRODID:icalendar-ruby
CALSCALE:GREGORIAN
METHOD:PUBLISH
BEGIN:VEVENT
DTSTAMP:20260422T084516Z
UID:54-1083979@churchat.nz
DTSTART:20260419T070000Z
DTEND:20260419T085500Z
CLASS:PUBLIC
CREATED:20260413T133754
DESCRIPTION:If you call Church@ home\, then this night is for you.\n \nThi
 s is a great opportunity to hear from leadership\, meet new people\, and b
 e part of the team. Whether you are currently serving or not\, if you atte
 nd Church@\, then you are already part of the team.\n \nPlease bring a pl
 ate to share for supper.
LAST-MODIFIED:20260413T133754
LOCATION:46 Oreti Rd\, Otatara
SUMMARY:Team Night
URL;VALUE=URI:https://churchat.nz/events/team-night--54/2026-04-19
ATTACH;FILENAME=team-8.jpg;FMTTYPE=image/jpeg:https://dq5pwpg1q8ru0.cloudfr
 ont.net/2026/04/11/19/19/23/2d24d1ba-aa5d-4f2b-8823-70f2bdf80928/team-8.jp
 g
END:VEVENT
END:VCALENDAR
