BEGIN:VCALENDAR
VERSION:2.0
PRODID:icalendar-ruby
CALSCALE:GREGORIAN
METHOD:PUBLISH
BEGIN:VEVENT
DTSTAMP:20260420T050011Z
UID:52-1071902@churchat.nz
DTSTART:20260703T010000Z
DTEND:20260706T020000Z
CLASS:PUBLIC
CREATED:20260408T121326
DESCRIPTION:
LAST-MODIFIED:20260408T121326
LOCATION:
SUMMARY:Ps Kristen Williams
URL;VALUE=URI:https://churchat.nz/events/ps-kristen-williams/2026-07-03
ATTACH;FILENAME=Training-night-3-3.jpg;FMTTYPE=image/jpeg:https://dq5pwpg1q
 8ru0.cloudfront.net/2026/04/08/00/12/43/e05d977f-a127-4a8b-a574-408a8da339
 f5/Training-night-3-3.jpg
END:VEVENT
END:VCALENDAR
