BEGIN:VCALENDAR
VERSION:2.0
PRODID:icalendar-ruby
CALSCALE:GREGORIAN
METHOD:PUBLISH
BEGIN:VEVENT
DTSTAMP:20260422T101837Z
UID:53-1103659@churchat.nz
DTSTART:20260724T010000Z
DTEND:20260726T020000Z
CLASS:PUBLIC
CREATED:20260422T094953
DESCRIPTION:
LAST-MODIFIED:20260422T094953
LOCATION:
SUMMARY:Ps Daz Chettle
URL;VALUE=URI:https://churchat.nz/events/ps-daz-chettle/2026-07-24
ATTACH;FILENAME=daz-1-2.jpg;FMTTYPE=image/jpeg:https://dq5pwpg1q8ru0.cloudf
 ront.net/2026/04/21/21/49/35/a6d0b97d-4063-4152-9cc5-ac7dfd796d5c/daz-1-2.
 jpg
END:VEVENT
END:VCALENDAR
