BEGIN:VCALENDAR
VERSION:2.0
PRODID:icalendar-ruby
CALSCALE:GREGORIAN
METHOD:PUBLISH
BEGIN:VEVENT
DTSTAMP:20260420T045026Z
UID:55-1090784@churchat.nz
DTSTART:20260925T040000Z
DTEND:20261005T040000Z
CLASS:PUBLIC
CREATED:20260416T150606
DESCRIPTION:
LAST-MODIFIED:20260416T150606
LOCATION:
SUMMARY:Dr Terry Wong
URL;VALUE=URI:https://churchat.nz/events/dr-terry-wong/2026-09-25
ATTACH;FILENAME=Training-night-4-3.jpg;FMTTYPE=image/jpeg:https://dq5pwpg1q
 8ru0.cloudfront.net/2026/04/16/03/06/05/b6957d3a-8248-492d-a906-df7b3b5d22
 34/Training-night-4-3.jpg
END:VEVENT
END:VCALENDAR
